BEGIN:VCALENDAR
VERSION:2.0
PRODID:-//Seán Lightholder//lightholder.com//EN
CALSCALE:GREGORIAN
METHOD:PUBLISH
BEGIN:VEVENT
UID:SHW_caliceltic-fenestra-_20260529@lightholder.com
DTSTAMP:20260421T053505Z
DTSTART;TZID=America/Los_Angeles:20260529T180000
DTEND;TZID=America/Los_Angeles:20260529T203000
SUMMARY:CaliCeltic @ Fenestra Winery
LOCATION:Fenestra Winery, 83 Vallecitos Rd, Livermore
DESCRIPTION:Venue URL:   https://www.fenestrawinery.com/events\n\nMore info: https://lightholder.com/shows/caliceltic-fenestra-winery-2026-05-29
URL:https://lightholder.com/shows/caliceltic-fenestra-winery-2026-05-29
END:VEVENT
END:VCALENDAR
