BEGIN:VCALENDAR
VERSION:2.0
PRODID:-//Seán Lightholder//lightholder.com//EN
CALSCALE:GREGORIAN
METHOD:PUBLISH
BEGIN:VEVENT
UID:SHW_lightholder-soul-ban_20260613@lightholder.com
DTSTAMP:20260421T053505Z
DTSTART;TZID=America/Los_Angeles:20260613T180000
DTEND;TZID=America/Los_Angeles:20260613T210000
SUMMARY:Lightholder Soul Band @ Del Cielo Brewing in Livermore
LOCATION:Del Cielo Brewing Co., 4771 Arroyo Vista Suite B, Livermore
DESCRIPTION:Venue URL: https://delcielobrewing.com/events/\nFacebook event: https://www.facebook.com/events/1324112972898528/\n\nMore info: https://lightholder.com/shows/lightholder-soul-band-del-cielo-brewing-in-livermore-2026-06-13
URL:https://lightholder.com/shows/lightholder-soul-band-del-cielo-brewing-in-livermore-2026-06-13
END:VEVENT
END:VCALENDAR
